BEGIN:VCALENDAR
VERSION:2.0
PRODID:-//Ville de Hégenheim - ECPv5.10.0//NONSGML v1.0//EN
CALSCALE:GREGORIAN
METHOD:PUBLISH
X-WR-CALNAME:Ville de Hégenheim
X-ORIGINAL-URL:https://www.ville-hegenheim.fr
X-WR-CALDESC:évènements pour Ville de Hégenheim
BEGIN:VTIMEZONE
TZID:Europe/Helsinki
BEGIN:DAYLIGHT
TZOFFSETFROM:+0200
TZOFFSETTO:+0300
TZNAME:EEST
DTSTART:20240331T010000
END:DAYLIGHT
BEGIN:STANDARD
TZOFFSETFROM:+0300
TZOFFSETTO:+0200
TZNAME:EET
DTSTART:20241027T010000
END:STANDARD
END:VTIMEZONE
BEGIN:VEVENT
DTSTART;TZID=Europe/Helsinki:20240106T080000
DTEND;TZID=Europe/Helsinki:20240106T170000
DTSTAMP:20260425T134224
CREATED:20231227T110907Z
LAST-MODIFIED:20231227T110907Z
UID:5306-1704528000-1704560400@www.ville-hegenheim.fr
SUMMARY:47ème Marche Populaire Internationale
DESCRIPTION:Vous ne participez pas à la randonnée\, alors venez vous restaurer : \nhttps://www.ville-hegenheim.fr/wp-content/uploads/2023/12/SKM_C450i23122712540-scaled.jpg \n  \n 
URL:https://www.ville-hegenheim.fr/event/47eme-marche-populaire-internationale/
LOCATION:CCS\, rue du Stade\, HEGENHEIM\, 68220
ATTACH;FMTTYPE=image/png:https://www.ville-hegenheim.fr/wp-content/uploads/2023/12/marche-populaire.png
ORGANIZER;CN="Chorale%201864":MAILTO:andre.hauger@orange.fr
END:VEVENT
END:VCALENDAR