BEGIN:VCALENDAR
VERSION:2.0
PRODID:-//Ville de Hégenheim - ECPv5.10.0//NONSGML v1.0//EN
CALSCALE:GREGORIAN
METHOD:PUBLISH
X-WR-CALNAME:Ville de Hégenheim
X-ORIGINAL-URL:https://www.ville-hegenheim.fr
X-WR-CALDESC:évènements pour Ville de Hégenheim
BEGIN:VTIMEZONE
TZID:Europe/Helsinki
BEGIN:DAYLIGHT
TZOFFSETFROM:+0200
TZOFFSETTO:+0300
TZNAME:EEST
DTSTART:20240331T010000
END:DAYLIGHT
BEGIN:STANDARD
TZOFFSETFROM:+0300
TZOFFSETTO:+0200
TZNAME:EET
DTSTART:20241027T010000
END:STANDARD
END:VTIMEZONE
BEGIN:VEVENT
DTSTART;TZID=Europe/Helsinki:20240204T170000
DTEND;TZID=Europe/Helsinki:20240204T180000
DTSTAMP:20260425T191852
CREATED:20240123T112230Z
LAST-MODIFIED:20240123T112230Z
UID:5360-1707066000-1707069600@www.ville-hegenheim.fr
SUMMARY:Concert au profit de Terre des Hommes Alsace
DESCRIPTION:
URL:https://www.ville-hegenheim.fr/event/concert-au-profit-de-terre-des-hommes-alsace/
LOCATION:EGLISE SAINT-PIERRE et PAUL\, 9 rue de l'Eglise\, Hagenthal-le-Bas\, 68220
ATTACH;FMTTYPE=image/jpeg:https://www.ville-hegenheim.fr/wp-content/uploads/2024/01/SKM_C450i24012310070-scaled.jpg
END:VEVENT
END:VCALENDAR