BEGIN:VCALENDAR
VERSION:2.0
PRODID:-//Ville de Hégenheim - ECPv5.10.0//NONSGML v1.0//EN
CALSCALE:GREGORIAN
METHOD:PUBLISH
X-WR-CALNAME:Ville de Hégenheim
X-ORIGINAL-URL:https://www.ville-hegenheim.fr
X-WR-CALDESC:évènements pour Ville de Hégenheim
BEGIN:VTIMEZONE
TZID:Europe/Helsinki
BEGIN:DAYLIGHT
TZOFFSETFROM:+0200
TZOFFSETTO:+0300
TZNAME:EEST
DTSTART:20190331T010000
END:DAYLIGHT
BEGIN:STANDARD
TZOFFSETFROM:+0300
TZOFFSETTO:+0200
TZNAME:EET
DTSTART:20191027T010000
END:STANDARD
END:VTIMEZONE
BEGIN:VEVENT
DTSTART;TZID=Europe/Helsinki:20191225T190000
DTEND;TZID=Europe/Helsinki:20191225T230000
DTSTAMP:20260422T131155
CREATED:20190911T152413Z
LAST-MODIFIED:20191217T161106Z
UID:3226-1577300400-1577314800@www.ville-hegenheim.fr
SUMMARY:Concert de Noël
DESCRIPTION:Plus d’informations sur
URL:https://www.ville-hegenheim.fr/event/concert-de-noel-4/
LOCATION:CCS\, rue du Stade\, HEGENHEIM\, 68220
END:VEVENT
END:VCALENDAR