BEGIN:VCALENDAR
VERSION:2.0
PRODID:-//Ville de Hégenheim - ECPv5.10.0//NONSGML v1.0//EN
CALSCALE:GREGORIAN
METHOD:PUBLISH
X-WR-CALNAME:Ville de Hégenheim
X-ORIGINAL-URL:https://www.ville-hegenheim.fr
X-WR-CALDESC:évènements pour Ville de Hégenheim
BEGIN:VTIMEZONE
TZID:Europe/Helsinki
BEGIN:DAYLIGHT
TZOFFSETFROM:+0200
TZOFFSETTO:+0300
TZNAME:EEST
DTSTART:20230326T010000
END:DAYLIGHT
BEGIN:STANDARD
TZOFFSETFROM:+0300
TZOFFSETTO:+0200
TZNAME:EET
DTSTART:20231029T010000
END:STANDARD
END:VTIMEZONE
BEGIN:VEVENT
DTSTART;TZID=Europe/Helsinki:20230917T120000
DTEND;TZID=Europe/Helsinki:20230917T233000
DTSTAMP:20260421T030003
CREATED:20230816T094943Z
LAST-MODIFIED:20230901T103800Z
UID:5110-1694952000-1694993400@www.ville-hegenheim.fr
SUMMARY:Käsnapperfascht 2023
DESCRIPTION:
URL:https://www.ville-hegenheim.fr/event/kasnapperfascht-2024-2/
LOCATION:CCS + Rue du Stade\, Rue du Stade\, HEGENHEIM\, 68220
ATTACH;FMTTYPE=image/jpeg:https://www.ville-hegenheim.fr/wp-content/uploads/2023/08/kas-2023.jpg
END:VEVENT
END:VCALENDAR