BEGIN:VCALENDAR
VERSION:2.0
PRODID:-//Ville de Hégenheim - ECPv5.10.0//NONSGML v1.0//EN
CALSCALE:GREGORIAN
METHOD:PUBLISH
X-WR-CALNAME:Ville de Hégenheim
X-ORIGINAL-URL:https://www.ville-hegenheim.fr
X-WR-CALDESC:évènements pour Ville de Hégenheim
BEGIN:VTIMEZONE
TZID:Europe/Helsinki
BEGIN:DAYLIGHT
TZOFFSETFROM:+0200
TZOFFSETTO:+0300
TZNAME:EEST
DTSTART:20240331T010000
END:DAYLIGHT
BEGIN:STANDARD
TZOFFSETFROM:+0300
TZOFFSETTO:+0200
TZNAME:EET
DTSTART:20241027T010000
END:STANDARD
END:VTIMEZONE
BEGIN:VEVENT
DTSTART;TZID=Europe/Helsinki:20241223T080000
DTEND;TZID=Europe/Helsinki:20241223T200000
DTSTAMP:20260421T082223
CREATED:20241211T151759Z
LAST-MODIFIED:20241211T151759Z
UID:5755-1734940800-1734984000@www.ville-hegenheim.fr
SUMMARY:Marché hebdomadaire
DESCRIPTION:En raison des fêtes de fin d’année\, le Marché du jeudi 26 décembre 2024 est déplacé au Lundi 23 décembre 2024
URL:https://www.ville-hegenheim.fr/event/marche-hebdomadaire/
LOCATION:Centre du village\, 1 rue de Hagenthal\, Hégenheim\, 68220\, France
END:VEVENT
END:VCALENDAR