BEGIN:VCALENDAR
VERSION:2.0
PRODID:-//Ville de Hégenheim - ECPv5.10.0//NONSGML v1.0//EN
CALSCALE:GREGORIAN
METHOD:PUBLISH
X-WR-CALNAME:Ville de Hégenheim
X-ORIGINAL-URL:https://www.ville-hegenheim.fr
X-WR-CALDESC:évènements pour Ville de Hégenheim
BEGIN:VTIMEZONE
TZID:Europe/Helsinki
BEGIN:DAYLIGHT
TZOFFSETFROM:+0200
TZOFFSETTO:+0300
TZNAME:EEST
DTSTART:20250330T010000
END:DAYLIGHT
BEGIN:STANDARD
TZOFFSETFROM:+0300
TZOFFSETTO:+0200
TZNAME:EET
DTSTART:20251026T010000
END:STANDARD
END:VTIMEZONE
BEGIN:VEVENT
DTSTART;VALUE=DATE:20250104
DTEND;VALUE=DATE:20250106
DTSTAMP:20260421T053930
CREATED:20241218T072541Z
LAST-MODIFIED:20250108T072730Z
UID:5787-1735948800-1736121599@www.ville-hegenheim.fr
SUMMARY:Marche Populaire
DESCRIPTION:
URL:https://www.ville-hegenheim.fr/event/marche-populaire-3/
LOCATION:CCS\, rue du Stade\, HEGENHEIM\, 68220
ORGANIZER;CN="Chorale%201864":MAILTO:andre.hauger@orange.fr
END:VEVENT
END:VCALENDAR