BEGIN:VCALENDAR
VERSION:2.0
PRODID:-//Ville de Hégenheim - ECPv5.10.0//NONSGML v1.0//EN
CALSCALE:GREGORIAN
METHOD:PUBLISH
X-WR-CALNAME:Ville de Hégenheim
X-ORIGINAL-URL:https://www.ville-hegenheim.fr
X-WR-CALDESC:évènements pour Ville de Hégenheim
BEGIN:VTIMEZONE
TZID:Europe/Helsinki
BEGIN:DAYLIGHT
TZOFFSETFROM:+0200
TZOFFSETTO:+0300
TZNAME:EEST
DTSTART:20250330T010000
END:DAYLIGHT
BEGIN:STANDARD
TZOFFSETFROM:+0300
TZOFFSETTO:+0200
TZNAME:EET
DTSTART:20251026T010000
END:STANDARD
END:VTIMEZONE
BEGIN:VEVENT
DTSTART;VALUE=DATE:20250308
DTEND;VALUE=DATE:20250309
DTSTAMP:20260421T052943
CREATED:20250226T081850Z
LAST-MODIFIED:20250226T082108Z
UID:5867-1741392000-1741478399@www.ville-hegenheim.fr
SUMMARY:Marchons Ensemble - Journée Internationale des Droits des Femmes
DESCRIPTION:MARCHONS ENSEMBLE\nPOUR L’ASSOCIATION ENTRAIDE FEMMES DU HAUT-RHIN\nRésumé\n\nDans le cadre de « Femmes de mars »\, la Comète organise le samedi 8 mars une marche solidaire pour les droits des femmes. \nLe départ se fera à 10h à La Comète pour un parcours de 4 km aller-retour avec une pause conviviale à la salle des fêtes d’Hégenheim. \n\nRDV à 9H30 pour un réveil musculaire qui débutera dès 9h45 avec Laetitia de LaSoSa3 !\n\nLa marche se fera en musique et en rythme avec les tambours de la batucada Batou’bled’arts ! \nÀ l’arrivée au retour à La Comète\, des foodtrucks tenus par des entrepreneuses locales offriront une petite restauration. \n  \nL’après-midi\, un forum riche en rencontres et découvertes mettra en lumière des initiatives de femmes autour de trois thèmes : \n\nSanté des femmes\nLe marché des créatrices avec des artisanes locales\nTémoignages inspirants de parcours de femmes remarquables\n\nDiverses associations tiendront des stands d’information.\nPrésence de la Médiathèque La Citadelle de Sierentz avec des ouvrages sur la thématique de la femme et ses droits. \nLe programme   \nEntrée libre\, don possible à l’association \nVenez marcher pour la solidarité\, et participez à un après-midi d’échanges inspirants !
URL:https://www.ville-hegenheim.fr/event/marchons-ensemble-journee-internationale-des-droits-des-femmes/
LOCATION:La Comète à Hésingue\, 16 rue du 20 novembre \, HESINGUE\, 68220\, France
ATTACH;FMTTYPE=image/jpeg:https://www.ville-hegenheim.fr/wp-content/uploads/2025/02/marchons-ensemble-2025-scaled.jpg
END:VEVENT
END:VCALENDAR