BEGIN:VCALENDAR
VERSION:2.0
PRODID:-//Ville de Hégenheim - ECPv5.10.0//NONSGML v1.0//EN
CALSCALE:GREGORIAN
METHOD:PUBLISH
X-WR-CALNAME:Ville de Hégenheim
X-ORIGINAL-URL:https://www.ville-hegenheim.fr
X-WR-CALDESC:évènements pour Ville de Hégenheim
BEGIN:VTIMEZONE
TZID:Europe/Helsinki
BEGIN:DAYLIGHT
TZOFFSETFROM:+0200
TZOFFSETTO:+0300
TZNAME:EEST
DTSTART:20250330T010000
END:DAYLIGHT
BEGIN:STANDARD
TZOFFSETFROM:+0300
TZOFFSETTO:+0200
TZNAME:EET
DTSTART:20251026T010000
END:STANDARD
END:VTIMEZONE
BEGIN:VEVENT
DTSTART;TZID=Europe/Helsinki:20250405T084500
DTEND;TZID=Europe/Helsinki:20250405T120000
DTSTAMP:20260421T064832
CREATED:20250401T104109Z
LAST-MODIFIED:20250401T104333Z
UID:5931-1743842700-1743854400@www.ville-hegenheim.fr
SUMMARY:Rencontre avec l'ONF - "des Racines et des Hommes"
DESCRIPTION:Merci de confirmer votre présence : 250405_Affiche_Hegenheim
URL:https://www.ville-hegenheim.fr/event/rencontre-avec-lonf-des-racines-et-des-hommes/
LOCATION:PARCOURS VITA
END:VEVENT
END:VCALENDAR