BEGIN:VCALENDAR
VERSION:2.0
PRODID:-//Ville de Hégenheim - ECPv5.10.0//NONSGML v1.0//EN
CALSCALE:GREGORIAN
METHOD:PUBLISH
X-WR-CALNAME:Ville de Hégenheim
X-ORIGINAL-URL:https://www.ville-hegenheim.fr
X-WR-CALDESC:évènements pour Ville de Hégenheim
BEGIN:VTIMEZONE
TZID:Europe/Helsinki
BEGIN:DAYLIGHT
TZOFFSETFROM:+0200
TZOFFSETTO:+0300
TZNAME:EEST
DTSTART:20230326T010000
END:DAYLIGHT
BEGIN:STANDARD
TZOFFSETFROM:+0300
TZOFFSETTO:+0200
TZNAME:EET
DTSTART:20231029T010000
END:STANDARD
END:VTIMEZONE
BEGIN:VEVENT
DTSTART;VALUE=DATE:20230422
DTEND;VALUE=DATE:20230423
DTSTAMP:20260424T105439
CREATED:20230308T104144Z
LAST-MODIFIED:20230308T104324Z
UID:4929-1682121600-1682207999@www.ville-hegenheim.fr
SUMMARY:Journée citoyenne
DESCRIPTION:A RESERVER DANS VOS AGENDAS – SAVE THE DATE : \n\n⇒ La journée citoyenne aura lieu le samedi 22 avril 2023.\n\nUne réunion de préparation est prévue et sera annoncée sous peu. Les détails vous seront communiqués à ce moment là. \nSi vous souhaitez d’ores et déjà rejoindre l’équipe de bénévoles\, veuillez adresser un mail à hakile.zeneli((_at_))hegenheim.fr \n 
URL:https://www.ville-hegenheim.fr/event/journee-citoyenne-5/
ATTACH;FMTTYPE=image/jpeg:https://www.ville-hegenheim.fr/wp-content/uploads/2019/03/journee-citoyenne-e1553242463334.jpg
END:VEVENT
END:VCALENDAR