BEGIN:VCALENDAR
VERSION:2.0
PRODID:-//Ville de Hégenheim - ECPv5.10.0//NONSGML v1.0//EN
CALSCALE:GREGORIAN
METHOD:PUBLISH
X-WR-CALNAME:Ville de Hégenheim
X-ORIGINAL-URL:https://www.ville-hegenheim.fr
X-WR-CALDESC:évènements pour Ville de Hégenheim
BEGIN:VTIMEZONE
TZID:Europe/Helsinki
BEGIN:DAYLIGHT
TZOFFSETFROM:+0200
TZOFFSETTO:+0300
TZNAME:EEST
DTSTART:20230326T010000
END:DAYLIGHT
BEGIN:STANDARD
TZOFFSETFROM:+0300
TZOFFSETTO:+0200
TZNAME:EET
DTSTART:20231029T010000
END:STANDARD
END:VTIMEZONE
BEGIN:VEVENT
DTSTART;TZID=Europe/Helsinki:20231212T140000
DTEND;TZID=Europe/Helsinki:20231212T173000
DTSTAMP:20260423T230347
CREATED:20230103T151427Z
LAST-MODIFIED:20230103T151427Z
UID:4797-1702389600-1702402200@www.ville-hegenheim.fr
SUMMARY:Permanence Alter Alsace Energies
DESCRIPTION:Saint-Louis Agglomération organise depuis 2012 des permanences d’informations sur l’énergie et la rénovation globale en partenariat avec l’association Alter Alsace Énergies. \nLes permanences sont animées par un conseiller France Rénov’\, et ont pour but d’accompagner les personnes souhaitant engager des travaux de rénovation énergétique de leur logement. \nLe conseiller répond aux questions techniques (par où commencer\, quels matériaux utiliser pour une isolation performante\, quel type de chauffage choisir…) et financières (aides financières disponibles\, crédit d’impôts…). \nLes permanences sont gratuites. \nCALENDRIER DES PERMANENCES\nLe calendrier complet des permanences 2023 est consultable en cliquant ici : Calendrier des permanences France Rénov’ 2023 (dernière mise à jour : 23/12/2022) \nLes conseillers étant régulièrement en rendez-vous\, privilégiez le courriel afin d’être recontacté dans les meilleurs délais : eie68((_at_))alteralsace.org \nContact : 03.89.50.06.20
URL:https://www.ville-hegenheim.fr/event/permanence-alter-alsace-energies-2/
LOCATION:Mairie
ATTACH;FMTTYPE=image/gif:https://www.ville-hegenheim.fr/wp-content/uploads/2021/03/Logo_alter_basse_def-scaled.gif
ORGANIZER;CN="ALTER%20ALSACE%20ENERGIES":MAILTO:eie68@alteralsace.org
END:VEVENT
END:VCALENDAR