BEGIN:VCALENDAR
VERSION:2.0
PRODID:-//Ville de Hégenheim - ECPv5.10.0//NONSGML v1.0//EN
CALSCALE:GREGORIAN
METHOD:PUBLISH
X-WR-CALNAME:Ville de Hégenheim
X-ORIGINAL-URL:https://www.ville-hegenheim.fr
X-WR-CALDESC:évènements pour Ville de Hégenheim
BEGIN:VTIMEZONE
TZID:Europe/Helsinki
BEGIN:DAYLIGHT
TZOFFSETFROM:+0200
TZOFFSETTO:+0300
TZNAME:EEST
DTSTART:20230326T010000
END:DAYLIGHT
BEGIN:STANDARD
TZOFFSETFROM:+0300
TZOFFSETTO:+0200
TZNAME:EET
DTSTART:20231029T010000
END:STANDARD
END:VTIMEZONE
BEGIN:VEVENT
DTSTART;TZID=Europe/Helsinki:20231216T080000
DTEND;TZID=Europe/Helsinki:20231216T170000
DTSTAMP:20260424T044450
CREATED:20230816T123513Z
LAST-MODIFIED:20230816T123633Z
UID:5132-1702713600-1702746000@www.ville-hegenheim.fr
SUMMARY:New York Dance club Saint-Louis
DESCRIPTION:Portes ouvertes (journée) et \nRepas\, gala\, et soirée (sur réservation au 06.60.94.02.66)
URL:https://www.ville-hegenheim.fr/event/new-york-dance-club-saint-louis/
LOCATION:CCS\, rue du Stade\, HEGENHEIM\, 68220
END:VEVENT
END:VCALENDAR