BEGIN:VCALENDAR
VERSION:2.0
PRODID:-//Ville de Hégenheim - ECPv5.10.0//NONSGML v1.0//EN
CALSCALE:GREGORIAN
METHOD:PUBLISH
X-WR-CALNAME:Ville de Hégenheim
X-ORIGINAL-URL:https://www.ville-hegenheim.fr
X-WR-CALDESC:évènements pour Ville de Hégenheim
BEGIN:VTIMEZONE
TZID:Europe/Helsinki
BEGIN:DAYLIGHT
TZOFFSETFROM:+0200
TZOFFSETTO:+0300
TZNAME:EEST
DTSTART:20240331T010000
END:DAYLIGHT
BEGIN:STANDARD
TZOFFSETFROM:+0300
TZOFFSETTO:+0200
TZNAME:EET
DTSTART:20241027T010000
END:STANDARD
END:VTIMEZONE
BEGIN:VEVENT
DTSTART;TZID=Europe/Helsinki:20240108T080000
DTEND;TZID=Europe/Helsinki:20240108T160000
DTSTAMP:20260425T134620
CREATED:20231227T111836Z
LAST-MODIFIED:20231227T112349Z
UID:5314-1704700800-1704729600@www.ville-hegenheim.fr
SUMMARY:Ramassage des Sapins
DESCRIPTION:Nous vous remercions de déposer vos sapins bien en évidence sur les trottoirs au plus tard à 8h00\, en veillant à ne pas gêner le passage des piétons. \n 
URL:https://www.ville-hegenheim.fr/event/ramassage-des-sapins-3/
ATTACH;FMTTYPE=image/png:https://www.ville-hegenheim.fr/wp-content/uploads/2022/01/sapin-noel.png
ORGANIZER;CN="MAIRIE":MAILTO:mairie@hegenheim.fr
END:VEVENT
END:VCALENDAR