BEGIN:VCALENDAR
VERSION:2.0
PRODID:-//Ville de Hégenheim - ECPv5.10.0//NONSGML v1.0//EN
CALSCALE:GREGORIAN
METHOD:PUBLISH
X-WR-CALNAME:Ville de Hégenheim
X-ORIGINAL-URL:https://www.ville-hegenheim.fr
X-WR-CALDESC:évènements pour Ville de Hégenheim
BEGIN:VTIMEZONE
TZID:Europe/Helsinki
BEGIN:DAYLIGHT
TZOFFSETFROM:+0200
TZOFFSETTO:+0300
TZNAME:EEST
DTSTART:20240331T010000
END:DAYLIGHT
BEGIN:STANDARD
TZOFFSETFROM:+0300
TZOFFSETTO:+0200
TZNAME:EET
DTSTART:20241027T010000
END:STANDARD
END:VTIMEZONE
BEGIN:VEVENT
DTSTART;TZID=Europe/Helsinki:20240919T080000
DTEND;TZID=Europe/Helsinki:20240919T170000
DTSTAMP:20260425T051856
CREATED:20240828T123440Z
LAST-MODIFIED:20240828T123440Z
UID:5615-1726732800-1726765200@www.ville-hegenheim.fr
SUMMARY:Don du sang
DESCRIPTION:
URL:https://www.ville-hegenheim.fr/event/don-du-sang-7/
LOCATION:CCS\, rue du Stade\, HEGENHEIM\, 68220
END:VEVENT
END:VCALENDAR